Workbook
Name ADD: Validation!$A$36:$A$37
Name ADDLVL: Validation!$C$19:$F$38
Name ADDLVLS: Validation!$C$19:$C$98
Name Age: Validation!$C$2:$C$13
Name Dental: Validation!$A$9:$A$10
Name DL: Validation!$A$17:$A$19
Name Medical: Validation!$A$2:$A$6
Name Multiplier: Validation!$A$22:$A$28
Name SGIP: Validation!$A$39:$A$41
Name SPLFA: Validation!$A$43:$A$48
Name Target: Validation!$A$31:$A$34
Name Vision: Validation!$A$13
Name well: Validation!$A$59:$A$62

Sheet Before Change
A1: FY2027 Benefit Premiums Before Change | L1: Instructions
M2: Enter the EE's benefit information prior to the change.
A3: Employee/Retiree Age | D3: Under 25 | M3: If the EE does not have a spouse, you can leave all Spouse related fields as default.
A4: Spouse Age | D4: Under 25
A5: Optional Life Salary | D5: 50000 | M5: For Employees, enter both the Optional Life and Benefits salary amounts, even if they are the same.
A6: Benefits Salary | D6: 50000 | M6: For Retirees, enter the Retiree OL Amount. This field can be left blank for employees.
A7: Retiree OL Amount (if applicable) | D7: 0
A8: Are you a tobacco user? | D8: No | E8: =CONCATENATE(D8,D9,D17) -> NoNoEmployee Only | M8: If the EE has Certified other Medical, please select "No - Certified Other" for Medical enrollment
A9: Is your spouse a tobacco user? | D9: No | M9: to correctly reflect ER contributions for other coverages.
A10: Are you a TAMUS Retiree? | D10: No
A11: Do you participate in the 12 over 9 program? | D11: Yes | M11: Basic Life and Alternate Basic Life are not included in the calculator because they are always
A12: Do you qualify for SGIP? | D12: Full SGIP | M12: Employer Paid Coverages at no cost to the employee.
A14: Enroll in Benefit? | G14: Premium | H14: Premium | J14: Your Monthly Cost | M14: If the employee is paid bi-weekly, their rate shown here is monthly and will be
A15: Yes | C15: Medical | E15: {=INDEX(Medical!E2:E200,MATCH(1,(D16=Medical!A2:A200)*(D17=Medical!B2:B200)*(E16=Medical!C2:C200)*(D12=Medical!D2:D200),0))} -> 0 | G15: =E15+E20 -> 30 | H15: =IF(A15="Yes",G15,0) -> 30 | J15: =IF($D$11="yes",H15*4/3,H15) -> 40 | M15: double what is shown per-paycheck in Workday.
C16: Plan | D16: A&M Care | E16: =VLOOKUP(E8,Tobacco!D:E,2,FALSE) -> Non-Tobacco User
C17: Tier | D17: Employee Only | E17: =CONCATENATE(D18,D19,D17) -> NoNoEmployee Only | M17: The Balance Calculator tab will not include Spending Account changes.
C18: Employee has Wellness Credit? | D18: No | E18: =CONCATENATE(D16,D10) -> A&M CareNo
C19: Spouse has Wellness Credit? | D19: No | E19: =VLOOKUP(E17,Wellness!D:E,2,FALSE) -> 30
E20: =IF(E18="A&M CareNo",E19,0) -> 30
A21: No | C21: Dental | G21: {=INDEX(Dental!C2:C35,MATCH(1,(D22=Dental!A2:A35)*(D23=Dental!B2:B35),0))} -> 21.72 | H21: =IF(A21="Yes",G21,0) -> 0 | I21: =IF($D$11="yes",H21*4/3,H21) -> 0 | J21: =IF(A15="No - Certified Other",0,I21) -> 0
C22: Plan | D22: Dental HMO
C23: Tier | D23: Employee Only
A25: No | C25: Vision | G25: {=INDEX(Vision!C2:C5,MATCH(1,(D26=Vision!A2:A5)*(D27=Vision!B2:B5),0))} -> 8.36 | H25: =IF(A25="Yes",G25,0) -> 0 | I25: =IF($D$11="yes",H25*4/3,H25) -> 0 | J25: =IF(A15="No - Certified Other",0,I25) -> 0
C26: Plan | D26: Superior Vision
C27: Tier | D27: Employee Only
A29: No | C29: Optional Life | G29: =F31/1000*E31 -> 0.9 | H29: =IF(A29="Yes",G29,0) -> 0 | J29: =IF($D$11="yes",H29*4/3,H29) -> 0
C30: Salary Multiple | D30: 0.5 | E30: =IF(D8="yes","Tobacco User","Non-Tobacco User") -> Non-Tobacco User
C31: Amount of Coverage | D31: =IF(D10="yes",D7,F31) -> 25000 | E31: {=INDEX(Life!D2:D50,MATCH(1,(D3=Life!A2:A50)*(E30=Life!C2:C50)*(C29=Life!B2:B50),0))} -> 0.036 | F31: =MIN(ROUNDDOWN(D30*D5,-3),1000000) -> 25000
A33: No | C33: LTD | E33: =VLOOKUP(D8,LTD!A:B,2,FALSE) -> 0.178 | G33: =E34*E33/100 -> 7.4166667 | H33: =IF(A33="Yes",G33,0) -> 0 | I33: =IF($D$11="yes",H33*4/3,H33) -> 0 | J33: =IF(A15="No - Certified Other",0,I33) -> 0
C34: Monthly Benefit | D34: 0 | E34: =MIN(D6/12, 8000) -> 4166.6667
A36: No | C36: Optional AD&D | G36: =E37*D37/10000 -> 0.1 | H36: =IF(A36="Yes",G36,0) -> 0 | I36: =IF($D$11="yes",H36*4/3,H36) -> 0 | J36: =IF(A15="No - Certified Other",0,I36) -> 0
C37: Coverage Amount | D37: 10000 | E37: {=INDEX(ADD!C2:C5,MATCH(1,(D10=ADD!A2:A5)*(D38=ADD!B2:B5),0))} -> 0.1
C38: Level | D38: Employee
A40: No | C40: Dependent Life | G40: =_xlfn.XLOOKUP(D41,DL!A:A,DL!G:G,0) -> 0.57 | H40: =IF(A40="Yes",G40,0) -> 0 | J40: =IF($D$11="yes",H40*4/3,H40) -> 0
C41: Plan | D41: Plan A - Spouse & Child
C42: Spouse Life Coverage (if applicable): | D42: 0
A44: No | C44: Spending Account* | G44: =E45+E46 -> 0 | H44: =IF(A44="Yes",G44,0) -> 0 | J44: =IF($D$11="yes",H44*4/3,H44) -> 0
C45: Health Care Spending Annual Amount | D45: 0 | E45: =D45/12 -> 0
C46: Dependent Care Spending Annual Amount | D46: 0 | E46: =D46/12 -> 0
A48: Total Monthly Premium | J48: =J44+J40+I36+I33+J29+I25+I21+J15 -> 40
A49: Updated July 27, 2026
A50: *Calculator will not include spending account premiums.

Sheet After Change
A1: FY2027 Benefit Enrollment - After Change | L1: Instructions
A2: If you are calculating the refund due to someone who is TERMINATING or RETIRING Mid-Year, change all Values to "NO" in column A! | M2: Enter the EE's benefit information after the change. If the employee is TERMINATING or RETIRING Mid-Year, change all valudes to "NO" in Column A
A3: Employee/Retiree Age | D3: Under 25 | M3: If the EE does not have a spouse, you can leave all Spouse related fields as default.
A4: Spouse Age | D4: Under 25
A5: Optional Life Salary | D5: 50000 | M5: For Employees, enter both the Optional Life and Benefits salary amounts, even if they are the same.
A6: Benefits Salary | D6: 50000 | M6: For Retirees, enter the Retiree OL Amount. This field can be left blank for employees.
A7: Retiree OL Amount (if applicable) | D7: 0
A8: Are you a tobacco user? | D8: No | E8: =CONCATENATE(D8,D9,D17) -> NoNoEmployee Only | M8: If the EE has Certified other Medical, please select "No - Certified Other" for Medical enrollment
A9: Is your spouse a tobacco user? | D9: No | M9: to correctly reflect ER contributions for other coverages.
A10: Are you a TAMUS Retiree? | D10: No
A11: Do you participate in the 12 over 9 program? | D11: No | M11: Basic Life and Alternate Basic Life are not included in the calculator because they are always
A12: Do you qualify for SGIP? | D12: No SGIP | M12: Employer Paid Coverages at no cost to the employee.
A14: Enroll in Benefit? | G14: Premium | H14: Premium | J14: Your Monthly Cost | M14: If the employee is paid bi-weekly, their rate shown here is monthly and will be
A15: No | C15: Medical | E15: {=INDEX(Medical!E2:E200,MATCH(1,(D16=Medical!A2:A200)*(D17=Medical!B2:B200)*(E16=Medical!C2:C200)*(D12=Medical!D2:D200),0))} -> 1120 | G15: =E15+E20 -> 1150 | H15: =IF(A15="Yes",G15,0) -> 0 | J15: =IF($D$11="yes",H15*4/3,H15) -> 0 | M15: double what is shown per-paycheck in Workday.
C16: Plan | D16: A&M Care | E16: =VLOOKUP(E8,Tobacco!D:E,2,FALSE) -> Non-Tobacco User
C17: Tier | D17: Employee Only | E17: =CONCATENATE(D18,D19,D17) -> NoNoEmployee Only | M17: The Balance Calculator tab will not include Spending Account changes.
C18: Employee has Wellness Credit? | D18: No | E18: =CONCATENATE(D16,D10) -> A&M CareNo
C19: Spouse has Wellness Credit? | D19: No | E19: =VLOOKUP(E17,Wellness!D:E,2,FALSE) -> 30
E20: =IF(E18="A&M CareNo",E19,0) -> 30
A21: No | C21: Dental | G21: {=INDEX(Dental!C2:C35,MATCH(1,(D22=Dental!A2:A35)*(D23=Dental!B2:B35),0))} -> 21.72 | H21: =IF(A21="Yes",G21,0) -> 0 | I21: =IF($D$11="yes",H21*4/3,H21) -> 0 | J21: =IF(A15="No - Certified Other",0,I21) -> 0
C22: Plan | D22: Dental HMO
C23: Tier | D23: Employee Only
A25: No | C25: Vision | G25: {=INDEX(Vision!C2:C5,MATCH(1,(D26=Vision!A2:A5)*(D27=Vision!B2:B5),0))} -> 24.44 | H25: =IF(A25="Yes",G25,0) -> 0 | I25: =IF($D$11="yes",H25*4/3,H25) -> 0 | J25: =IF(A15="No - Certified Other",0,I25) -> 0
C26: Plan | D26: Superior Vision
C27: Tier | D27: Employee & Family
A29: No | C29: Optional Life | G29: =F31/1000*E31 -> 0.9 | H29: =IF(A29="Yes",G29,0) -> 0 | J29: =IF($D$11="yes",H29*4/3,H29) -> 0
C30: Salary Multiple | D30: 0.5 | E30: =IF(D8="yes","Tobacco User","Non-Tobacco User") -> Non-Tobacco User
C31: Amount of Coverage | D31: =IF(D10="yes",D7,F31) -> 25000 | E31: {=INDEX(Life!D2:D50,MATCH(1,(D3=Life!A2:A50)*(E30=Life!C2:C50)*(C29=Life!B2:B50),0))} -> 0.036 | F31: =MIN(ROUNDDOWN(D30*D5,-3),1000000) -> 25000
A33: No | C33: LTD | E33: =VLOOKUP(D8,LTD!A:B,2,FALSE) -> 0.178 | G33: =E34*E33/100 -> 7.4166667 | H33: =IF(A33="Yes",G33,0) -> 0 | I33: =IF($D$11="yes",H33*4/3,H33) -> 0 | J33: =IF(A15="No - Certified Other",0,I33) -> 0
C34: Monthly Benefit | D34: =E34*0.65 -> 2708.3333 | E34: =MIN(D6/12, 8000) -> 4166.6667
A36: No | C36: AD&D | G36: =E37*D37/10000 -> 0.1 | H36: =IF(A36="Yes",G36,0) -> 0 | I36: =IF($D$11="yes",H36*4/3,H36) -> 0 | J36: =IF(A15="No - Certified Other",0,I36) -> 0
C37: Coverage Amount | D37: 10000 | E37: {=INDEX(ADD!C2:C5,MATCH(1,(D10=ADD!A2:A5)*(D38=ADD!B2:B5),0))} -> 0.1
C38: Level | D38: Employee
A40: No | C40: Dependent Life | G40: =_xlfn.XLOOKUP(D41,DL!A:A,DL!H:H,0) -> 0.57 | H40: =IF(A40="Yes",G40,0) -> 0 | J40: =IF($D$11="yes",H40*4/3,H40) -> 0
C41: Plan | D41: Plan A - Spouse & Child
C42: Spouse Life Coverage (if applicable): | D42: 0
A44: No | C44: Spending Account* | G44: =E45+E46 -> 0 | H44: =IF(A44="Yes",G44,0) -> 0 | J44: =IF($D$11="yes",H44*4/3,H44) -> 0
C45: Health Care Spending Annual Amount | D45: 0 | E45: =D45/12 -> 0
C46: Dependent Care Spending Annual Amount | D46: 0 | E46: =D46/12 -> 0
A48: Total Monthly Premium | J48: =J44+J40+I36+I33+J29+I25+I21+J15 -> 0
A49: ='Before Change'!A49 -> Updated July 27, 2026
A50: *Calculator will not include spending account premiums.

Sheet Balance Calculator
E1: =VLOOKUP(E2,Validation!$A$64:$B$75,2,FALSE) -> 1 | F1: =VLOOKUP(F2,Validation!$A$64:$B$75,2,FALSE) -> 2 | G1: =VLOOKUP(G2,Validation!$A$64:$B$75,2,FALSE) -> 3 | H1: =VLOOKUP(H2,Validation!$A$64:$B$75,2,FALSE) -> 4 | I1: =VLOOKUP(I2,Validation!$A$64:$B$75,2,FALSE) -> 5 | J1: =VLOOKUP(J2,Validation!$A$64:$B$75,2,FALSE) -> 6 | K1: =VLOOKUP(K2,Validation!$A$64:$B$75,2,FALSE) -> 7 | L1: =VLOOKUP(L2,Validation!$A$64:$B$75,2,FALSE) -> 8 | ... P1: =VLOOKUP(P2,Validation!$A$64:$B$75,2,FALSE) -> 12
C2: Before | D2: After if 12/9 | E2: September | F2: October | G2: November | H2: December | I2: January | J2: February | K2: March | L2: April | M2: May | N2: June | O2: July | P2: August
A3: Medical | C3: ='Before Change'!J15 -> 40 | D3: ='After Change'!J15 -> 0 | E3: =IF(C$15>=E$1,$C3,$D3)-(IF(B$14>E$1,$C3,$D3)*(IF(B12="Yes",0.75,1))) -> 40 | F3: =IF(C$15>=F$1,$C3,$D3)-(IF(B$14>F$1,$C3,$D3)*(IF(B12="Yes",0.75,1))) -> 0 | G3: =IF(C$15>=G$1,$C3,$D3)-(IF(B$14>G$1,$C3,$D3)*(IF(B12="Yes",0.75,1))) -> 0 | H3: =IF(C$15>=H$1,$C3,$D3)-(IF(B$14>H$1,$C3,$D3)*(IF(B12="Yes",0.75,1))) -> 0 | I3: =IF(C$15>=I$1,$C3,$D3)-(IF(B$14>I$1,$C3,$D3)*(IF(B12="Yes",0.75,1))) -> 0 | J3: =IF(C$15>=J$1,$C3,$D3)-(IF(B$14>J$1,$C3,$D3)*(IF(B12="Yes",0.75,1))) -> 0 | K3: =IF(C$15>=K$1,$C3,$D3)-(IF(B$14>K$1,$C3,$D3)*(IF(B12="Yes",0.75,1))) -> 0 | L3: =IF(C$15>=L$1,$C3,$D3)-(IF(B$14>L$1,$C3,$D3)*(IF(B12="Yes",0.75,1))) -> 0 | M3: =IF(C$15>=M$1,$C3,$D3)-(IF(B$14>M$1,$C3,$D3)*(IF(B12="Yes",0.75,1))) -> 0 | N3: =(IF('Before Change'!D11="Yes",0,(IF(C$15>N$1,$C3,$D3)))-(IF(B$14>N$1,$C3,$D3)*(IF(B12="Yes",0.75,1)))) -> 0 | O3: =(IF('Before Change'!D11="Yes",0,(IF(C$15>O$1,$C3,$D3)))-(IF(B$14>O$1,$C3,$D3)*(IF(B12="Yes",0.75,1)))) -> 0 | P3: =(IF('Before Change'!D11="Yes",0,(IF(C$15>P$1,$C3,$D3)))-(IF(B$14>P$1,$C3,$D3)*(IF(B12="Yes",0.75,1)))) -> 0
A4: Dental | C4: ='Before Change'!J21 -> 0 | D4: ='After Change'!J21 -> 0 | E4: =ROUND(IF(C$15>=E$1,$C4,$D4)-(IF(B$14>E$1,$C4,$D4)*(IF(B12="Yes",0.75,1))),2) -> 0 | F4: =IF(C$15>=F$1,$C4,$D4)-(IF(B$14>F$1,$C4,$D4)*(IF(B12="Yes",0.75,1))) -> 0 | G4: =IF(C$15>=G$1,$C4,$D4)-(IF(B$14>G$1,$C4,$D4)*(IF(B12="Yes",0.75,1))) -> 0 | H4: =IF(C$15>=H$1,$C4,$D4)-(IF(B$14>H$1,$C4,$D4)*(IF(B12="Yes",0.75,1))) -> 0 | I4: =ROUND(IF(C$15>=I$1,$C4,$D4)-(IF(B$14>I$1,$C4,$D4)*0.75),2) -> 0 | J4: =IF(C$15>=J$1,$C4,$D4)-(IF(B$14>J$1,$C4,$D4)*(IF(B12="Yes",0.75,1))) -> 0 | K4: =IF(C$15>=K$1,$C4,$D4)-(IF(B$14>K$1,$C4,$D4)*(IF(B12="Yes",0.75,1))) -> 0 | L4: =IF(C$15>=L$1,$C4,$D4)-(IF(B$14>L$1,$C4,$D4)*(IF(B12="Yes",0.75,1))) -> 0 | M4: =IF(C$15>=M$1,$C4,$D4)-(IF(B$14>M$1,$C4,$D4)*(IF(B12="Yes",0.75,1))) -> 0 | N4: =(IF('Before Change'!D11="Yes",0,(IF(C$15>N$1,$C4,$D4)))-(IF(B$14>N$1,$C4,$D4)*(IF(B12="Yes",0.75,1)))) -> 0 | O4: =(IF('Before Change'!D11="Yes",0,(IF(C$15>O$1,$C4,$D4)))-(IF(B$14>O$1,$C4,$D4)*(IF(B12="Yes",0.75,1)))) -> 0 | P4: =(IF('Before Change'!D11="Yes",0,(IF(C$15>P$1,$C4,$D4)))-(IF(B$14>P$1,$C4,$D4)*(IF(B12="Yes",0.75,1)))) -> 0
A5: Vision | C5: ='Before Change'!J25 -> 0 | D5: ='After Change'!J25 -> 0 | E5: =ROUND(IF(C$15>=E$1,$C5,$D5)-(IF(B$14>E$1,$C5,$D5)*(IF(B12="Yes",0.75,1))),2) -> 0 | F5: =IF(C$15>=F$1,$C5,$D5)-(IF(B$14>F$1,$C5,$D5)*(IF(B12="Yes",0.75,1))) -> 0 | G5: =IF(C$15>=G$1,$C5,$D5)-(IF(B$14>G$1,$C5,$D5)*(IF(B12="Yes",0.75,1))) -> 0 | H5: =IF(C$15>=H$1,$C5,$D5)-(IF(B$14>H$1,$C5,$D5)*(IF(B12="Yes",0.75,1))) -> 0 | I5: =IF(C$15>=I$1,$C5,$D5)-(IF(B$14>I$1,$C5,$D5)*(IF(B12="Yes",0.75,1))) -> 0 | J5: =IF(C$15>=J$1,$C5,$D5)-(IF(B$14>J$1,$C5,$D5)*(IF(B12="Yes",0.75,1))) -> 0 | K5: =IF(C$15>=K$1,$C5,$D5)-(IF(B$14>K$1,$C5,$D5)*(IF(B12="Yes",0.75,1))) -> 0 | L5: =IF(C$15>=L$1,$C5,$D5)-(IF(B$14>L$1,$C5,$D5)*(IF(B12="Yes",0.75,1))) -> 0 | M5: =IF(C$15>=M$1,$C5,$D5)-(IF(B$14>M$1,$C5,$D5)*(IF(B12="Yes",0.75,1))) -> 0 | N5: =(IF('Before Change'!D11="Yes",0,(IF(C$15>N$1,$C5,$D5)))-(IF(B$14>N$1,$C5,$D5)*(IF(B12="Yes",0.75,1)))) -> 0 | O5: =(IF('Before Change'!D11="Yes",0,(IF(C$15>O$1,$C5,$D5)))-(IF(B$14>O$1,$C5,$D5)*(IF(B12="Yes",0.75,1)))) -> 0 | P5: =(IF('Before Change'!D11="Yes",0,(IF(C$15>P$1,$C5,$D5)))-(IF(B$14>P$1,$C5,$D5)*(IF(B12="Yes",0.75,1)))) -> 0
A6: Optional Life | C6: ='Before Change'!J29 -> 0 | D6: ='After Change'!J29 -> 0 | E6: =ROUND(IF(C$15>=E$1,$C6,$D6)-(IF(B$14>E$1,$C6,$D6)*(IF(B12="Yes",0.75,1))),2) -> 0 | F6: =IF(C$15>=F$1,$C6,$D6)-(IF(B$14>F$1,$C6,$D6)*(IF(B12="Yes",0.75,1))) -> 0 | G6: =IF(C$15>=G$1,$C6,$D6)-(IF(B$14>G$1,$C6,$D6)*(IF(B12="Yes",0.75,1))) -> 0 | H6: =IF(C$15>=H$1,$C6,$D6)-(IF(B$14>H$1,$C6,$D6)*(IF(B12="Yes",0.75,1))) -> 0 | I6: =IF(C$15>=I$1,$C6,$D6)-(IF(B$14>I$1,$C6,$D6)*(IF(B12="Yes",0.75,1))) -> 0 | J6: =IF(C$15>=J$1,$C6,$D6)-(IF(B$14>J$1,$C6,$D6)*(IF(B12="Yes",0.75,1))) -> 0 | K6: =IF(C$15>=K$1,$C6,$D6)-(IF(B$14>K$1,$C6,$D6)*(IF(B12="Yes",0.75,1))) -> 0 | L6: =IF(C$15>=L$1,$C6,$D6)-(IF(B$14>L$1,$C6,$D6)*(IF(B12="Yes",0.75,1))) -> 0 | M6: =IF(C$15>=M$1,$C6,$D6)-(IF(B$14>M$1,$C6,$D6)*(IF(B12="Yes",0.75,1))) -> 0 | N6: =(IF('Before Change'!D11="Yes",0,(IF(C$15>N$1,$C6,$D6)))-(IF(B$14>N$1,$C6,$D6)*(IF(B12="Yes",0.75,1)))) -> 0 | O6: =(IF('Before Change'!D11="Yes",0,(IF(C$15>O$1,$C6,$D6)))-(IF(B$14>O$1,$C6,$D6)*(IF(B12="Yes",0.75,1)))) -> 0 | P6: =(IF('Before Change'!D11="Yes",0,(IF(C$15>P$1,$C6,$D6)))-(IF(B$14>P$1,$C6,$D6)*(IF(B12="Yes",0.75,1)))) -> 0
A7: LTD | C7: ='Before Change'!J33 -> 0 | D7: ='After Change'!J33 -> 0 | E7: =ROUND(IF(C$15>=E$1,$C7,$D7)-(IF(B$14>E$1,$C7,$D7)*(IF(B12="Yes",0.75,1))),2) -> 0 | F7: =IF(C$15>=F$1,$C7,$D7)-(IF(B$14>F$1,$C7,$D7)*(IF(B12="Yes",0.75,1))) -> 0 | G7: =IF(C$15>=G$1,$C7,$D7)-(IF(B$14>G$1,$C7,$D7)*(IF(B12="Yes",0.75,1))) -> 0 | H7: =IF(C$15>=H$1,$C7,$D7)-(IF(B$14>H$1,$C7,$D7)*(IF(B12="Yes",0.75,1))) -> 0 | I7: =IF(C$15>=I$1,$C7,$D7)-(IF(B$14>I$1,$C7,$D7)*(IF(B12="Yes",0.75,1))) -> 0 | J7: =IF(C$15>=J$1,$C7,$D7)-(IF(B$14>J$1,$C7,$D7)*(IF(B12="Yes",0.75,1))) -> 0 | K7: =IF(C$15>=K$1,$C7,$D7)-(IF(B$14>K$1,$C7,$D7)*(IF(B12="Yes",0.75,1))) -> 0 | L7: =IF(C$15>=L$1,$C7,$D7)-(IF(B$14>L$1,$C7,$D7)*(IF(B12="Yes",0.75,1))) -> 0 | M7: =IF(C$15>=M$1,$C7,$D7)-(IF(B$14>M$1,$C7,$D7)*(IF(B12="Yes",0.75,1))) -> 0 | N7: =(IF('Before Change'!D11="Yes",0,(IF(C$15>N$1,$C7,$D7)))-(IF(B$14>N$1,$C7,$D7)*(IF(B12="Yes",0.75,1)))) -> 0 | O7: =(IF('Before Change'!D11="Yes",0,(IF(C$15>O$1,$C7,$D7)))-(IF(B$14>O$1,$C7,$D7)*(IF(B12="Yes",0.75,1)))) -> 0 | P7: =(IF('Before Change'!D11="Yes",0,(IF(C$15>P$1,$C7,$D7)))-(IF(B$14>P$1,$C7,$D7)*(IF(B12="Yes",0.75,1)))) -> 0
A8: AD&D | C8: ='Before Change'!J36 -> 0 | D8: ='After Change'!J36 -> 0 | E8: =ROUND(IF(C$15>=E$1,$C8,$D8)-(IF(B$14>E$1,$C8,$D8)*(IF(B12="Yes",0.75,1))),2) -> 0 | F8: =IF(C$15>=F$1,$C8,$D8)-(IF(B$14>F$1,$C8,$D8)*(IF(B12="Yes",0.75,1))) -> 0 | G8: =IF(C$15>=G$1,$C8,$D8)-(IF(B$14>G$1,$C8,$D8)*(IF(B12="Yes",0.75,1))) -> 0 | H8: =IF(C$15>=H$1,$C8,$D8)-(IF(B$14>H$1,$C8,$D8)*(IF(B12="Yes",0.75,1))) -> 0 | I8: =IF(C$15>=I$1,$C8,$D8)-(IF(B$14>I$1,$C8,$D8)*(IF(B12="Yes",0.75,1))) -> 0 | J8: =IF(C$15>=J$1,$C8,$D8)-(IF(B$14>J$1,$C8,$D8)*(IF(B12="Yes",0.75,1))) -> 0 | K8: =IF(C$15>=K$1,$C8,$D8)-(IF(B$14>K$1,$C8,$D8)*(IF(B12="Yes",0.75,1))) -> 0 | L8: =IF(C$15>=L$1,$C8,$D8)-(IF(B$14>L$1,$C8,$D8)*(IF(B12="Yes",0.75,1))) -> 0 | M8: =IF(C$15>=M$1,$C8,$D8)-(IF(B$14>M$1,$C8,$D8)*(IF(B12="Yes",0.75,1))) -> 0 | N8: =(IF('Before Change'!D11="Yes",0,(IF(C$15>N$1,$C8,$D8)))-(IF(B$14>N$1,$C8,$D8)*(IF(B12="Yes",0.75,1)))) -> 0 | O8: =(IF('Before Change'!D11="Yes",0,(IF(C$15>O$1,$C8,$D8)))-(IF(B$14>O$1,$C8,$D8)*(IF(B12="Yes",0.75,1)))) -> 0 | P8: =(IF('Before Change'!D11="Yes",0,(IF(C$15>P$1,$C8,$D8)))-(IF(B$14>P$1,$C8,$D8)*(IF(B12="Yes",0.75,1)))) -> 0
A9: Dependent Life | C9: ='Before Change'!J40 -> 0 | D9: ='After Change'!J40 -> 0 | E9: =ROUND(IF(C$15>=E$1,$C9,$D9)-(IF(B$14>E$1,$C9,$D9)*(IF(B12="Yes",0.75,1))),2) -> 0 | F9: =IF(C$15>=F$1,$C9,$D9)-(IF(B$14>F$1,$C9,$D9)*(IF(B12="Yes",0.75,1))) -> 0 | G9: =IF(C$15>=G$1,$C9,$D9)-(IF(B$14>G$1,$C9,$D9)*(IF(B12="Yes",0.75,1))) -> 0 | H9: =IF(C$15>=H$1,$C9,$D9)-(IF(B$14>H$1,$C9,$D9)*(IF(B12="Yes",0.75,1))) -> 0 | I9: =IF(C$15>=I$1,$C9,$D9)-(IF(B$14>I$1,$C9,$D9)*(IF(B12="Yes",0.75,1))) -> 0 | J9: =IF(C$15>=J$1,$C9,$D9)-(IF(B$14>J$1,$C9,$D9)*(IF(B12="Yes",0.75,1))) -> 0 | K9: =IF(C$15>=K$1,$C9,$D9)-(IF(B$14>K$1,$C9,$D9)*(IF(B12="Yes",0.75,1))) -> 0 | L9: =IF(C$15>=L$1,$C9,$D9)-(IF(B$14>L$1,$C9,$D9)*(IF(B12="Yes",0.75,1))) -> 0 | M9: =IF(C$15>=M$1,$C9,$D9)-(IF(B$14>M$1,$C9,$D9)*(IF(B12="Yes",0.75,1))) -> 0 | N9: =(IF('Before Change'!D11="Yes",0,(IF(C$15>N$1,$C9,$D9)))-(IF(B$14>N$1,$C9,$D9)*(IF(B12="Yes",0.75,1)))) -> 0 | O9: =(IF('Before Change'!D11="Yes",0,(IF(C$15>O$1,$C9,$D9)))-(IF(B$14>O$1,$C9,$D9)*(IF(B12="Yes",0.75,1)))) -> 0 | P9: =(IF('Before Change'!D11="Yes",0,(IF(C$15>P$1,$C9,$D9)))-(IF(B$14>P$1,$C9,$D9)*(IF(B12="Yes",0.75,1)))) -> 0
A10: Spending Account*
C11: =SUM(C3:C10) -> 40 | D11: =SUM(D3:D10) -> 0 | E11: =SUM(E3:E10) -> 40 | F11: =SUM(F3:F10) -> 0 | G11: =SUM(G3:G10) -> 0 | H11: =SUM(H3:H10) -> 0 | I11: =SUM(I3:I10) -> 0 | J11: =SUM(J3:J10) -> 0 | ... P11: =SUM(P3:P10) -> 0
A12: Leaving 12 over 9? | B12: {=_xlfn.IFS(AND('Before Change'!D11="Yes",'After Change'!D11="No"),"Yes",AND('Before Change'!D11="No",'After Change'!D11="No"),"No",AND('Before Change'!D11="Yes",'After Change'!D11="Yes"),"No")} -> Yes
A14: First Month in Which Change is Effective | B14: =VLOOKUP(C14,Validation!A64:B75,2,FALSE) -> 1 | C14: September | E14: Balance Owed/Due | F14: (If positive, refund is due to employee. If negative, the employee owes extra deductions)
A15: Number of Payrolls Completed before change was entered? | C15: 1 | E15: =SUM(E17:E24) -> 40 | F15: Total
E17: =SUM(E3:P3) -> 40 | F17: Medical
E18: =SUM(E4:P4) -> 0 | F18: Dental
E19: =SUM(E5:P5) -> 0 | F19: Vision
E20: =SUM(E6:P6) -> 0 | F20: Optional Life
E21: =SUM(E7:P7) -> 0 | F21: LTD
E22: =SUM(E8:P8) -> 0 | F22: AD&D
E23: =SUM(E9:P9) -> 0 | F23: Dependent Life
E24: Handle Separately* | F24: Spending Account
A26: * These calculations exclude spending accounts. For questions on what to do with spending accounts, please submit a ticket to SBA (sba-support@tamus.edu)

Sheet Validation
A1: Medical Plans | C1: Age
A2: A&M Care | C2: Under 25
A3: A&M Care 65+ | C3: 25-29
A4: A&M Care J Plan | C4: 30-34
A5: Graduate Student Health Plan | C5: 35-39
C6: 40-44
C7: 45-49
A8: Dental Plans | C8: 50-54
A9: Dental HMO | C9: 55-59
A10: Dental PPO | C10: 60-64
C11: 65-69
A12: Vision Plans | C12: 70-74
A13: Superior Vision | C13: 75 & Over
A15: Dependent Life | C15: Yes
C16: No
A17: Plan A | C17: No - Certified Other
A18: Plan B
A19: Plan C | C19: 10000
C20: 20000
A21: Multiplier | C21: 30000
A22: 0.5 | C22: 40000
A23: 1 | C23: 50000
A24: 2 | C24: 60000
A25: 3 | C25: 70000
A26: 4 | C26: 80000
A27: 5 | C27: 90000
A28: 6 | C28: 100000
C29: 110000
A30: Coverage Target | C30: 120000
A31: Employee Only | C31: 130000
A32: Employee & Spouse | C32: 140000
A33: Employee & Children | C33: 150000
A34: Employee & Family | C34: 160000
C35: 170000
A36: Family | C36: 180000
A37: Employee | C37: 190000
C38: 200000
A39: Full SGIP | C39: 210000
A40: Partial SGIP | C40: 220000
A41: No SGIP | C41: 230000
C42: 240000
A43: 25000 | C43: 250000
A44: 50000 | C44: 260000
A45: 75000 | C45: 270000
A46: 100000 | C46: 280000
A47: 150000 | C47: 290000
A48: 200000 | C48: 300000
C49: 310000
A50: Plan A - Spouse & Child | C50: 320000
A51: Plan A - Spouse Only | C51: 330000
A52: Plan A - Child(ren) Only | C52: 340000
A53: Plan B - Spouse & Child | C53: 350000
A54: Plan B - Spouse Only | C54: 360000
A55: Plan B - Child(ren) only | C55: 370000
A56: Plan C - Child(ren) Only | C56: 380000
A57: Plan C - Spouse & Child(ren) | C57: 390000
C58: 400000
A59: Employee has Credit | C59: 410000
A60: Employee & Spouse have Credit | C60: 420000
A61: Spouse has Credit | C61: 430000
A62: Neither Employee nor Spouse has Credit | C62: 440000
C63: 450000
A64: January | B64: 5 | C64: 460000
A65: February | B65: 6 | C65: 470000
A66: March | B66: 7 | C66: 480000
A67: April | B67: 8 | C67: 490000
A68: May | B68: 9 | C68: 500000
A69: June | B69: 10 | C69: 510000
A70: July | B70: 11 | C70: 520000
A71: August | B71: 12 | C71: 530000
A72: September | B72: 1 | C72: 540000
A73: October | B73: 2 | C73: 550000
A74: November | B74: 3 | C74: 560000
A75: December | B75: 4 | C75: 570000
C76: 580000
C77: 590000
C78: 600000
C79: 610000
C80: 620000
C81: 630000
C82: 640000
C83: 650000
C84: 660000
C85: 670000
C86: 680000
C87: 690000
... C98: 800000

Sheet Medical
A1: Plan | B1: Tier | C1: Tobacco | D1: SGIP | E1: Employee Premium | F1: Updated/Reviewed Date: 7/14/26
A2: A&M Care | B2: Employee Only | C2: Non-Tobacco User | D2: Full SGIP | E2: 0
A3: A&M Care 65+ | B3: Employee Only | C3: Non-Tobacco User | D3: Full SGIP | E3: 0
A4: A&M Care J Plan | B4: Employee Only | C4: Non-Tobacco User | D4: Full SGIP | E4: 0
A5: Graduate Student Health Plan | B5: Employee Only | C5: Non-Tobacco User | D5: Full SGIP | E5: 0
A6: Certified Other | D6: Full SGIP | E6: 0
A7: A&M Care | B7: Employee & Spouse | C7: Non-Tobacco User | D7: Full SGIP | E7: 310.22
A8: A&M Care 65+ | B8: Employee & Spouse | C8: Non-Tobacco User | D8: Full SGIP | E8: 125.56
A9: A&M Care J Plan | B9: Employee & Spouse | C9: Non-Tobacco User | D9: Full SGIP | E9: 310.22
A10: Graduate Student Health Plan | B10: Employee & Spouse | C10: Non-Tobacco User | D10: Full SGIP | E10: 0
A11: A&M Care | B11: Employee & Children | C11: Non-Tobacco User | D11: Full SGIP | E11: 215.54
A12: A&M Care 65+ | B12: Employee & Children | C12: Non-Tobacco User | D12: Full SGIP | E12: 51.23
A13: A&M Care J Plan | B13: Employee & Children | C13: Non-Tobacco User | D13: Full SGIP | E13: 215.54
A14: Graduate Student Health Plan | B14: Employee & Children | C14: Non-Tobacco User | D14: Full SGIP | E14: 31.36
A15: A&M Care | B15: Employee & Family | C15: Non-Tobacco User | D15: Full SGIP | E15: 436.58
A16: A&M Care 65+ | B16: Employee & Family | C16: Non-Tobacco User | D16: Full SGIP | E16: 224.79
A17: A&M Care J Plan | B17: Employee & Family | C17: Non-Tobacco User | D17: Full SGIP | E17: 436.58
A18: Graduate Student Health Plan | B18: Employee & Family | C18: Non-Tobacco User | D18: Full SGIP | E18: 183.34
A19: A&M Care | B19: Employee Only | C19: Tobacco User | D19: Full SGIP | E19: =E2+30 -> 30
A20: A&M Care 65+ | B20: Employee Only | C20: Tobacco User | D20: Full SGIP | E20: =E3+30 -> 30
A21: A&M Care J Plan | B21: Employee Only | C21: Tobacco User | D21: Full SGIP | E21: =E4+30 -> 30
A22: Graduate Student Health Plan | B22: Employee Only | C22: Tobacco User | D22: Full SGIP | E22: =E5 -> 0
A23: Certified Other | C23: Tobacco User | D23: Full SGIP | E23: 0
A24: A&M Care | B24: Employee & Spouse | C24: Tobacco User | D24: Full SGIP | E24: =E7+30 -> 340.22
A25: A&M Care 65+ | B25: Employee & Spouse | C25: Tobacco User | D25: Full SGIP | E25: =E8+30 -> 155.56
A26: A&M Care J Plan | B26: Employee & Spouse | C26: Tobacco User | D26: Full SGIP | E26: =E9+30 -> 340.22
A27: Graduate Student Health Plan | B27: Employee & Spouse | C27: Tobacco User | D27: Full SGIP | E27: =E10 -> 0
A28: A&M Care | B28: Employee & Children | C28: Tobacco User | D28: Full SGIP | E28: =E11+30 -> 245.54
A29: A&M Care 65+ | B29: Employee & Children | C29: Tobacco User | D29: Full SGIP | E29: =E12+30 -> 81.23
A30: A&M Care J Plan | B30: Employee & Children | C30: Tobacco User | D30: Full SGIP | E30: =E13+30 -> 245.54
A31: Graduate Student Health Plan | B31: Employee & Children | C31: Tobacco User | D31: Full SGIP | E31: =E14 -> 31.36
A32: A&M Care | B32: Employee & Family | C32: Tobacco User | D32: Full SGIP | E32: =E15+30 -> 466.58
A33: A&M Care 65+ | B33: Employee & Family | C33: Tobacco User | D33: Full SGIP | E33: =E16+30 -> 254.79
A34: A&M Care J Plan | B34: Employee & Family | C34: Tobacco User | D34: Full SGIP | E34: =E17+30 -> 466.58
A35: Graduate Student Health Plan | B35: Employee & Family | C35: Tobacco User | D35: Full SGIP | E35: =E18 -> 183.34
A36: A&M Care | B36: Employee Only | C36: Non-Tobacco User | D36: Partial SGIP | E36: 563.14
A37: A&M Care 65+ | B37: Employee Only | C37: Non-Tobacco User | D37: Partial SGIP | E37: =E3 -> 0
A38: A&M Care J Plan | B38: Employee Only | C38: Non-Tobacco User | D38: Partial SGIP | E38: 563.14
A39: Graduate Student Health Plan | B39: Employee Only | C39: Non-Tobacco User | D39: Partial SGIP | E39: =E5 -> 0
A40: A&M Care | B40: Employee & Spouse | C40: Non-Tobacco User | D40: Partial SGIP | E40: 1028.46
A41: A&M Care 65+ | B41: Employee & Spouse | C41: Non-Tobacco User | D41: Partial SGIP | E41: =E8 -> 125.56
A42: A&M Care J Plan | B42: Employee & Spouse | C42: Non-Tobacco User | D42: Partial SGIP | E42: 1028.46
A43: Graduate Student Health Plan | B43: Employee & Spouse | C43: Non-Tobacco User | D43: Partial SGIP | E43: =E10 -> 0
A44: A&M Care | B44: Employee & Children | C44: Non-Tobacco User | D44: Partial SGIP | E44: 886.44
A45: A&M Care 65+ | B45: Employee & Children | C45: Non-Tobacco User | D45: Partial SGIP | E45: =E12 -> 51.23
A46: A&M Care J Plan | B46: Employee & Children | C46: Non-Tobacco User | D46: Partial SGIP | E46: 886.44
A47: Graduate Student Health Plan | B47: Employee & Children | C47: Non-Tobacco User | D47: Partial SGIP | E47: =E14 -> 31.36
A48: A&M Care | B48: Employee & Family | C48: Non-Tobacco User | D48: Partial SGIP | E48: 1217.98
A49: A&M Care 65+ | B49: Employee & Family | C49: Non-Tobacco User | D49: Partial SGIP | E49: =E16 -> 224.79
A50: A&M Care J Plan | B50: Employee & Family | C50: Non-Tobacco User | D50: Partial SGIP | E50: 1217.98
A51: Graduate Student Health Plan | B51: Employee & Family | C51: Non-Tobacco User | D51: Partial SGIP | E51: =E18 -> 183.34
A52: A&M Care | B52: Employee Only | C52: Tobacco User | D52: Partial SGIP | E52: =E36+30 -> 593.14
A53: A&M Care 65+ | B53: Employee Only | C53: Tobacco User | D53: Partial SGIP | E53: =E37+30 -> 30
A54: A&M Care J Plan | B54: Employee Only | C54: Tobacco User | D54: Partial SGIP | E54: =E38+30 -> 593.14
A55: Graduate Student Health Plan | B55: Employee Only | C55: Tobacco User | D55: Partial SGIP | E55: =E39 -> 0
A56: A&M Care | B56: Employee & Spouse | C56: Tobacco User | D56: Partial SGIP | E56: =E40+30 -> 1058.46
A57: A&M Care 65+ | B57: Employee & Spouse | C57: Tobacco User | D57: Partial SGIP | E57: =E41+30 -> 155.56
A58: A&M Care J Plan | B58: Employee & Spouse | C58: Tobacco User | D58: Partial SGIP | E58: =E42+30 -> 1058.46
A59: Graduate Student Health Plan | B59: Employee & Spouse | C59: Tobacco User | D59: Partial SGIP | E59: =E43 -> 0
A60: A&M Care | B60: Employee & Children | C60: Tobacco User | D60: Partial SGIP | E60: =E44+30 -> 916.44
A61: A&M Care 65+ | B61: Employee & Children | C61: Tobacco User | D61: Partial SGIP | E61: =E45+30 -> 81.23
A62: A&M Care J Plan | B62: Employee & Children | C62: Tobacco User | D62: Partial SGIP | E62: =E46+30 -> 916.44
A63: Graduate Student Health Plan | B63: Employee & Children | C63: Tobacco User | D63: Partial SGIP | E63: =E47 -> 31.36
A64: A&M Care | B64: Employee & Family | C64: Tobacco User | D64: Partial SGIP | E64: =E48+30 -> 1247.98
A65: A&M Care 65+ | B65: Employee & Family | C65: Tobacco User | D65: Partial SGIP | E65: =E49+30 -> 254.79
A66: A&M Care J Plan | B66: Employee & Family | C66: Tobacco User | D66: Partial SGIP | E66: =E50+30 -> 1247.98
A67: Graduate Student Health Plan | B67: Employee & Family | C67: Tobacco User | D67: Partial SGIP | E67: =E51 -> 183.34
A68: A&M Care | B68: Employee Only | C68: Non-Tobacco User | D68: No SGIP | E68: 1120
A69: A&M Care 65+ | B69: Employee Only | C69: Non-Tobacco User | D69: No SGIP | E69: 1002.39
A70: A&M Care J Plan | B70: Employee Only | C70: Non-Tobacco User | D70: No SGIP | E70: 1120
A71: Graduate Student Health Plan | B71: Employee Only | C71: Non-Tobacco User | D71: No SGIP | E71: 262.5
A72: A&M Care | B72: Employee & Spouse | C72: Non-Tobacco User | D72: No SGIP | E72: 1740.44
A73: A&M Care 65+ | B73: Employee & Spouse | C73: Non-Tobacco User | D73: No SGIP | E73: 1555.78
A74: A&M Care J Plan | B74: Employee & Spouse | C74: Non-Tobacco User | D74: No SGIP | E74: 1740.44
A75: Graduate Student Health Plan | B75: Employee & Spouse | C75: Non-Tobacco User | D75: No SGIP | E75: 525
A76: A&M Care | B76: Employee & Children | C76: Non-Tobacco User | D76: No SGIP | E76: 1551.08
A77: A&M Care 65+ | B77: Employee & Children | C77: Non-Tobacco User | D77: No SGIP | E77: 1386.77
A78: A&M Care J Plan | B78: Employee & Children | C78: Non-Tobacco User | D78: No SGIP | E78: 1551.08
A79: Graduate Student Health Plan | B79: Employee & Children | C79: Non-Tobacco User | D79: No SGIP | E79: 696
... A83: Graduate Student Health Plan | B83: Employee & Family | C83: Non-Tobacco User | D83: No SGIP | E83: 958.5
A84: A&M Care | B84: Employee Only | C84: Tobacco User | D84: No SGIP | E84: =E68+30 -> 1150
A85: A&M Care 65+ | B85: Employee Only | C85: Tobacco User | D85: No SGIP | E85: =E69+30 -> 1032.39
A86: A&M Care J Plan | B86: Employee Only | C86: Tobacco User | D86: No SGIP | E86: =E70+30 -> 1150
A87: Graduate Student Health Plan | B87: Employee Only | C87: Tobacco User | D87: No SGIP | E87: =E71 -> 262.5
A88: A&M Care | B88: Employee & Spouse | C88: Tobacco User | D88: No SGIP | E88: =E72+30 -> 1770.44
A89: A&M Care 65+ | B89: Employee & Spouse | C89: Tobacco User | D89: No SGIP | E89: =E73+30 -> 1585.78
A90: A&M Care J Plan | B90: Employee & Spouse | C90: Tobacco User | D90: No SGIP | E90: =E74+30 -> 1770.44
A91: Graduate Student Health Plan | B91: Employee & Spouse | C91: Tobacco User | D91: No SGIP | E91: =E75 -> 525
A92: A&M Care | B92: Employee & Children | C92: Tobacco User | D92: No SGIP | E92: =E76+30 -> 1581.08
A93: A&M Care 65+ | B93: Employee & Children | C93: Tobacco User | D93: No SGIP | E93: =E77+30 -> 1416.77
A94: A&M Care J Plan | B94: Employee & Children | C94: Tobacco User | D94: No SGIP | E94: =E78+30 -> 1581.08
A95: Graduate Student Health Plan | B95: Employee & Children | C95: Tobacco User | D95: No SGIP | E95: =E79 -> 696
A96: A&M Care | B96: Employee & Family | C96: Tobacco User | D96: No SGIP | E96: =E80+30 -> 2023.14
A97: A&M Care 65+ | B97: Employee & Family | C97: Tobacco User | D97: No SGIP | E97: =E81+30 -> 1811.35
A98: A&M Care J Plan | B98: Employee & Family | C98: Tobacco User | D98: No SGIP | E98: =E82+30 -> 2023.14
A99: Graduate Student Health Plan | B99: Employee & Family | C99: Tobacco User | D99: No SGIP | E99: =E83 -> 958.5

Sheet Tobacco
A1: EMP | B1: SPS | C1: TIER | E1: RESULT
A2: No | B2: Yes | C2: Employee Only | D2: =CONCATENATE(A2,B2,C2) -> NoYesEmployee Only | E2: Non-Tobacco User
A3: No | B3: Yes | C3: Employee & Spouse | D3: =CONCATENATE(A3,B3,C3) -> NoYesEmployee & Spouse | E3: Tobacco User
A4: No | B4: Yes | C4: Employee & Children | D4: =CONCATENATE(A4,B4,C4) -> NoYesEmployee & Children | E4: Non-Tobacco User
A5: No | B5: Yes | C5: Employee & Family | D5: =CONCATENATE(A5,B5,C5) -> NoYesEmployee & Family | E5: Tobacco User
A6: No | B6: No | C6: Employee Only | D6: =CONCATENATE(A6,B6,C6) -> NoNoEmployee Only | E6: Non-Tobacco User
A7: No | B7: No | C7: Employee & Spouse | D7: =CONCATENATE(A7,B7,C7) -> NoNoEmployee & Spouse | E7: Non-Tobacco User
A8: No | B8: No | C8: Employee & Children | D8: =CONCATENATE(A8,B8,C8) -> NoNoEmployee & Children | E8: Non-Tobacco User
A9: No | B9: No | C9: Employee & Family | D9: =CONCATENATE(A9,B9,C9) -> NoNoEmployee & Family | E9: Non-Tobacco User
A10: Yes | B10: No | C10: Employee Only | D10: =CONCATENATE(A10,B10,C10) -> YesNoEmployee Only | E10: Tobacco User
A11: Yes | B11: No | C11: Employee & Spouse | D11: =CONCATENATE(A11,B11,C11) -> YesNoEmployee & Spouse | E11: Tobacco User
A12: Yes | B12: No | C12: Employee & Children | D12: =CONCATENATE(A12,B12,C12) -> YesNoEmployee & Children | E12: Tobacco User
A13: Yes | B13: No | C13: Employee & Family | D13: =CONCATENATE(A13,B13,C13) -> YesNoEmployee & Family | E13: Tobacco User
... A17: Yes | B17: Yes | C17: Employee & Family | D17: =CONCATENATE(A17,B17,C17) -> YesYesEmployee & Family | E17: Tobacco User

Sheet Life
A1: Age | E1: Reviewed/Updated: 7/14/26
A2: Under 25 | B2: Optional Life | C2: Non-Tobacco User | D2: 0.036
A3: 25-29 | B3: Optional Life | C3: Non-Tobacco User | D3: 0.036
A4: 30-34 | B4: Optional Life | C4: Non-Tobacco User | D4: 0.036
A5: 35-39 | B5: Optional Life | C5: Non-Tobacco User | D5: 0.043
A6: 40-44 | B6: Optional Life | C6: Non-Tobacco User | D6: 0.05
A7: 45-49 | B7: Optional Life | C7: Non-Tobacco User | D7: 0.102
A8: 50-54 | B8: Optional Life | C8: Non-Tobacco User | D8: 0.17
A9: 55-59 | B9: Optional Life | C9: Non-Tobacco User | D9: 0.306
A10: 60-64 | B10: Optional Life | C10: Non-Tobacco User | D10: 0.476
A11: 65-69 | B11: Optional Life | C11: Non-Tobacco User | D11: 0.646
A12: 70-74 | B12: Optional Life | C12: Non-Tobacco User | D12: 1.216
A13: 75 & Over | B13: Optional Life | C13: Non-Tobacco User | D13: 1.7
... A49: 75 & Over | B49: Dependent Life | C49: Tobacco User | D49: 2.101

Sheet Dental
A1: Plan | B1: Tier | C1: Premium | D1: Reviewed/Updated: 7/14/26
A2: Dental HMO | B2: Employee Only | C2: 21.72
A3: Dental HMO | B3: Employee & Spouse | C3: 38.6
A4: Dental HMO | B4: Employee & Children | C4: 38.9
A5: Dental HMO | B5: Employee & Family | C5: 60.42
A6: Dental PPO | B6: Employee Only | C6: 32.54
A7: Dental PPO | B7: Employee & Spouse | C7: 65.04
A8: Dental PPO | B8: Employee & Children | C8: 68.3
A9: Dental PPO | B9: Employee & Family | C9: 104.06

Sheet Vision
A1: Plan | B1: Tier | D1: Reviewed/Updated: 7/14/26
A2: Superior Vision | B2: Employee Only | C2: 8.36
A3: Superior Vision | B3: Employee & Spouse | C3: 17.72
A4: Superior Vision | B4: Employee & Children | C4: 13.7
A5: Superior Vision | B5: Employee & Family | C5: 24.44

Sheet Wellness
A1: EMP | B1: SPS | C1: TIER | E1: RESULT
A2: No | B2: Yes | C2: Employee Only | D2: =CONCATENATE(A2,B2,C2) -> NoYesEmployee Only | E2: 30
A3: No | B3: Yes | C3: Employee & Spouse | D3: =CONCATENATE(A3,B3,C3) -> NoYesEmployee & Spouse | E3: 30
A4: No | B4: Yes | C4: Employee & Children | D4: =CONCATENATE(A4,B4,C4) -> NoYesEmployee & Children | E4: 30
A5: No | B5: Yes | C5: Employee & Family | D5: =CONCATENATE(A5,B5,C5) -> NoYesEmployee & Family | E5: 30
A6: No | B6: No | C6: Employee Only | D6: =CONCATENATE(A6,B6,C6) -> NoNoEmployee Only | E6: 30
A7: No | B7: No | C7: Employee & Spouse | D7: =CONCATENATE(A7,B7,C7) -> NoNoEmployee & Spouse | E7: 60
A8: No | B8: No | C8: Employee & Children | D8: =CONCATENATE(A8,B8,C8) -> NoNoEmployee & Children | E8: 30
A9: No | B9: No | C9: Employee & Family | D9: =CONCATENATE(A9,B9,C9) -> NoNoEmployee & Family | E9: 60
A10: Yes | B10: No | C10: Employee Only | D10: =CONCATENATE(A10,B10,C10) -> YesNoEmployee Only | E10: 0
A11: Yes | B11: No | C11: Employee & Spouse | D11: =CONCATENATE(A11,B11,C11) -> YesNoEmployee & Spouse | E11: 30
A12: Yes | B12: No | C12: Employee & Children | D12: =CONCATENATE(A12,B12,C12) -> YesNoEmployee & Children | E12: 0
A13: Yes | B13: No | C13: Employee & Family | D13: =CONCATENATE(A13,B13,C13) -> YesNoEmployee & Family | E13: 30
... A17: Yes | B17: Yes | C17: Employee & Family | D17: =CONCATENATE(A17,B17,C17) -> YesYesEmployee & Family | E17: 0

Sheet ADD
A1: Retiree? | B1: Level | D1: Reviewed/Updated: 7/14/26
A2: Yes | B2: Employee | C2: 0.28
A3: Yes | B3: Family | C3: 0.46
A4: No | B4: Employee | C4: 0.1
A5: No | B5: Family | C5: 0.24

Sheet LTD
A1: Tobacco | C1: Reviewed/Updated: 7/14/26
A2: Yes | B2: 0.23
A3: No | B3: 0.178

Sheet DL
B1: Coverage - Before | C1: Coverage - After | D1: Spouse Age | E1: Tobacco Use | F1: Rate | G1: Premium - Before | H1: Premium - After | I1: Reviewed/Updated: 7/14/26
A2: Plan A - Spouse & Child | G2: =G3+G4 -> 0.57 | H2: =H3+H4 -> 0.57
A3: Plan A - Spouse Only | B3: ='Before Change'!D42 -> 0 | C3: ='After Change'!D42 -> 0 | D3: ='Before Change'!D4 -> Under 25 | E3: =IF('Before Change'!D9="No","Non-Tobacco User","Tobacco User") -> Non-Tobacco User | F3: {=INDEX(Life!D26:D50,MATCH(1,(D3=Life!A26:A50)*(E3=Life!C26:C50),0))} -> 0.043 | G3: =(B3/1000)*F3 -> 0 | H3: =(C3/1000)*F3 -> 0
A4: Plan A - Child(ren) Only | B4: 10000 | C4: 10000 | F4: 0.057 | G4: =(B4/1000)*F4 -> 0.57 | H4: =(C4/1000)*F4 -> 0.57
A5: Plan B - Spouse & Child | G5: =G6+G7 -> 1.29 | H5: =H6+H7 -> 1.29
A6: Plan B - Spouse Only | B6: 5000 | C6: 5000 | F6: 0.99 | G6: 0.99 | H6: 0.99
A7: Plan B - Child(ren) only | B7: 5000 | C7: 5000 | F7: 0.3 | G7: 0.3 | H7: 0.3
A8: Plan C - Spouse & Child(ren) | G8: =G9+G10 -> 0.35 | H8: =H9+H10 -> 0.35
A9: Plan C - Child(ren) Only | B9: 5000 | C9: 5000 | F9: 0.007 | G9: =(B9/100)*F9 -> 0.35 | H9: =(C9/100)*F9 -> 0.35
A10: Plan C - Spouse Only | B10: ='Before Change'!D42 -> 0 | C10: ='After Change'!D42 -> 0 | F10: 0.07 | G10: =(B10/100)*F10 -> 0 | H10: =(C10/100)*F10 -> 0
